BEGIN:VCALENDAR
VERSION:2.0
PRODID:SchoolNow
CALSCALE:GREGORIAN
BEGIN:VEVENT
UID:4dcf1484-9790-11e9-a9e9-12f5c26879a6
DTSTAMP:20190625T212924Z
SUMMARY:Final Exams for Full Semester
URL;VALUE=URI:https://www.nunez.edu/calendar/2012891/final-exams-for-full-s
 emester
DTSTART;VALUE=DATE:20200511
DTEND;VALUE=DATE:20200516
END:VEVENT
END:VCALENDAR
