BEGIN:VCALENDAR
VERSION:2.0
PRODID:SchoolNow
CALSCALE:GREGORIAN
BEGIN:VEVENT
UID:815ae562-9790-11e9-93e3-12f5c26879a6
DTSTAMP:20190625T213051Z
SUMMARY:Grades Due for Non-Graduates
URL;VALUE=URI:https://www.nunez.edu/calendar/2012894/grades-due-for-non-gra
 duates
DTSTART;VALUE=DATE:20200519
DTEND;VALUE=DATE:20200520
END:VEVENT
END:VCALENDAR
