BEGIN:VCALENDAR
VERSION:2.0
PRODID:SchoolNow
CALSCALE:GREGORIAN
BEGIN:VEVENT
UID:84123cda-75cd-11ea-b7f9-122e18bfa895
DTSTAMP:20200427T191255Z
SUMMARY:Registration Assistance
URL;VALUE=URI:https://www.nunez.edu/calendar/2229150/registration-assistanc
 e-clone
DTSTART:20200528T140000Z
DTEND:20200528T230000Z
END:VEVENT
END:VCALENDAR
