BEGIN:VCALENDAR
VERSION:2.0
PRODID:SchoolNow
CALSCALE:GREGORIAN
BEGIN:VEVENT
UID:d3a76a4a-b32a-11eb-8ffb-023354188eb3
DTSTAMP:20210512T140328Z
SUMMARY:Last Day of Class for the Fall Full Semester
URL;VALUE=URI:https://www.nunez.edu/calendar/2598608/last-day-of-class-for-
 the-fall-full-semester
DTSTART;VALUE=DATE:20211204
DTEND;VALUE=DATE:20211205
END:VEVENT
END:VCALENDAR
