BEGIN:VCALENDAR
VERSION:2.0
PRODID:SchoolNow
CALSCALE:GREGORIAN
BEGIN:VEVENT
UID:eadd12b4-b32a-11eb-b5b5-023354188eb3
DTSTAMP:20210512T140407Z
SUMMARY:Final Exams for the Fall Full Semester
URL;VALUE=URI:https://www.nunez.edu/calendar/2598609/final-exams-for-the-fa
 ll-full-semester
DTSTART;VALUE=DATE:20211206
DTEND;VALUE=DATE:20211212
END:VEVENT
END:VCALENDAR
