BEGIN:VCALENDAR
VERSION:2.0
PRODID:SchoolNow
CALSCALE:GREGORIAN
BEGIN:VEVENT
UID:f854c95a-b32a-11eb-9ac6-023354188eb3
DTSTAMP:20210512T140430Z
SUMMARY:Final Day of Class for Mini-Session B
URL;VALUE=URI:https://www.nunez.edu/calendar/2598610/final-day-of-class-for
 -mini-session-b
DTSTART;VALUE=DATE:20211206
DTEND;VALUE=DATE:20211207
END:VEVENT
END:VCALENDAR
