BEGIN:VCALENDAR
VERSION:2.0
PRODID:SchoolNow
CALSCALE:GREGORIAN
BEGIN:VEVENT
UID:064380d8-b32b-11eb-934c-023354188eb3
DTSTAMP:20210512T140453Z
SUMMARY:Final Exams for Mini-Session B
URL;VALUE=URI:https://www.nunez.edu/calendar/2598611/final-exams-for-mini-s
 ession-b
DTSTART;VALUE=DATE:20211208
DTEND;VALUE=DATE:20211209
END:VEVENT
END:VCALENDAR
