BEGIN:VCALENDAR
VERSION:2.0
PRODID:SchoolNow
CALSCALE:GREGORIAN
BEGIN:VEVENT
UID:1a7ac458-b32b-11eb-84f5-023354188eb3
DTSTAMP:20210512T140527Z
SUMMARY:Final Grades Due for Fall Full Semester and Mini-Session B
URL;VALUE=URI:https://www.nunez.edu/calendar/2598612/final-grades-due-for-f
 all-full-semester-and-mini-session-b
DTSTART;VALUE=DATE:20211215
DTEND;VALUE=DATE:20211216
END:VEVENT
END:VCALENDAR
