BEGIN:VCALENDAR
VERSION:2.0
PRODID:SchoolNow
CALSCALE:GREGORIAN
BEGIN:VEVENT
UID:29bc81f4-b32b-11eb-b250-023354188eb3
DTSTAMP:20210512T140553Z
SUMMARY:Winter Intersession
URL;VALUE=URI:https://www.nunez.edu/calendar/2598613/winter-intersession
DTSTART;VALUE=DATE:20211215
DTEND;VALUE=DATE:20220112
END:VEVENT
END:VCALENDAR
