BEGIN:VCALENDAR
VERSION:2.0
PRODID:SchoolNow
CALSCALE:GREGORIAN
BEGIN:VEVENT
UID:393d8326-b32b-11eb-8172-023354188eb3
DTSTAMP:20210512T140619Z
SUMMARY:First Day of Class for Winter Intersession
URL;VALUE=URI:https://www.nunez.edu/calendar/2598614/first-day-of-class-for
 -winter-intersession
DTSTART;VALUE=DATE:20211215
DTEND;VALUE=DATE:20211216
END:VEVENT
END:VCALENDAR
