BEGIN:VCALENDAR
VERSION:2.0
PRODID:SchoolNow
CALSCALE:GREGORIAN
BEGIN:VEVENT
UID:45362534-b32b-11eb-92d0-023354188eb3
DTSTAMP:20210512T140639Z
SUMMARY:Last Day to Receive 100% Refund for Winter Intersession
URL;VALUE=URI:https://www.nunez.edu/calendar/2598615/last-day-to-receive-10
 0-refund-for-winter-intersession
DTSTART;VALUE=DATE:20211217
DTEND;VALUE=DATE:20211218
END:VEVENT
END:VCALENDAR
