BEGIN:VCALENDAR
VERSION:2.0
PRODID:SchoolNow
CALSCALE:GREGORIAN
BEGIN:VEVENT
UID:5407fe52-b32b-11eb-907a-023354188eb3
DTSTAMP:20210804T140430Z
SUMMARY:Final Grades Due for Winter Intersession
URL;VALUE=URI:https://www.nunez.edu/calendar/2598616/final-grades-due-for-w
 inter-intersession
DTSTART;VALUE=DATE:20220113
DTEND;VALUE=DATE:20220114
END:VEVENT
END:VCALENDAR
