BEGIN:VCALENDAR
VERSION:2.0
PRODID:SchoolNow
CALSCALE:GREGORIAN
BEGIN:VEVENT
UID:606de648-b32b-11eb-a891-023354188eb3
DTSTAMP:20210512T140724Z
SUMMARY:Faculty Institute
URL;VALUE=URI:https://www.nunez.edu/calendar/2598617/faculty-institute
DTSTART;VALUE=DATE:20220111
DTEND;VALUE=DATE:20220112
END:VEVENT
END:VCALENDAR
