BEGIN:VCALENDAR
VERSION:2.0
PRODID:SchoolNow
CALSCALE:GREGORIAN
BEGIN:VEVENT
UID:725479b2-b32b-11eb-8412-023354188eb3
DTSTAMP:20210512T140754Z
SUMMARY:Spring 2022 Registration
URL;VALUE=URI:https://www.nunez.edu/calendar/2598618/spring-2022-registrati
 on
DTSTART;VALUE=DATE:20220111
DTEND;VALUE=DATE:20220115
END:VEVENT
END:VCALENDAR
