BEGIN:VCALENDAR
VERSION:2.0
PRODID:SchoolNow
CALSCALE:GREGORIAN
BEGIN:VEVENT
UID:81b46c46-b32b-11eb-b1f1-023354188eb3
DTSTAMP:20210512T152634Z
SUMMARY:Martin Luther King Jr. Holiday(Campus Closed)
URL;VALUE=URI:https://www.nunez.edu/calendar/2598619/martin-luther-king-jr-
 holiday-campus-closed
DTSTART;VALUE=DATE:20220117
DTEND;VALUE=DATE:20220118
END:VEVENT
END:VCALENDAR
