BEGIN:VCALENDAR
VERSION:2.0
PRODID:SchoolNow
CALSCALE:GREGORIAN
BEGIN:VEVENT
UID:e6a7e934-b32b-11eb-90ec-023354188eb3
DTSTAMP:20210804T163315Z
SUMMARY:Last Days to Add\, Drop\, or Adjust Schedule for Full Semester and 
 Mini-Session A
URL;VALUE=URI:https://www.nunez.edu/calendar/2598620/spring-2022-late-regis
 tration
DTSTART;VALUE=DATE:20220118
DTEND;VALUE=DATE:20220120
END:VEVENT
END:VCALENDAR
