BEGIN:VCALENDAR
VERSION:2.0
PRODID:SchoolNow
CALSCALE:GREGORIAN
BEGIN:VEVENT
UID:06163ce4-b32c-11eb-bb06-023354188eb3
DTSTAMP:20210512T152524Z
SUMMARY:Classes Begin for the Spring Full Semester and Mini-Session A
URL;VALUE=URI:https://www.nunez.edu/calendar/2598621/classes-begin-for-the-
 spring-full-semester-and-mini-session-a
DTSTART;VALUE=DATE:20220118
DTEND;VALUE=DATE:20220119
END:VEVENT
END:VCALENDAR
