BEGIN:VCALENDAR
VERSION:2.0
PRODID:SchoolNow
CALSCALE:GREGORIAN
BEGIN:VEVENT
UID:1911f888-b32c-11eb-97d6-023354188eb3
DTSTAMP:20210804T140730Z
SUMMARY:Payments are Due for Spring 2022 Full Semester and Mini-Session A C
 lasses
URL;VALUE=URI:https://www.nunez.edu/calendar/2598622/payments-are-due-for-s
 pring-2022-classes
DTSTART;VALUE=DATE:20220114
DTEND;VALUE=DATE:20220115
END:VEVENT
END:VCALENDAR
