BEGIN:VCALENDAR
VERSION:2.0
PRODID:SchoolNow
CALSCALE:GREGORIAN
BEGIN:VEVENT
UID:39b9a496-b32c-11eb-b599-023354188eb3
DTSTAMP:20210804T140810Z
SUMMARY:Last Day to Receive 100% Refund of Tuition and Fees for the Spring 
 Full Semester
URL;VALUE=URI:https://www.nunez.edu/calendar/2598623/last-day-to-receive-10
 0-refund-of-tuition-and-fees-for-the-spring-full-semester
DTSTART;VALUE=DATE:20220124
DTEND;VALUE=DATE:20220125
END:VEVENT
END:VCALENDAR
