BEGIN:VCALENDAR
VERSION:2.0
PRODID:SchoolNow
CALSCALE:GREGORIAN
BEGIN:VEVENT
UID:544bfe3a-b32c-11eb-a03a-023354188eb3
DTSTAMP:20210804T140827Z
SUMMARY:Last Day to Receive 50% Refund of Tuition and Fees for Spring Full 
 Semester
URL;VALUE=URI:https://www.nunez.edu/calendar/2598624/last-day-to-receive-50
 -refund-of-tution-and-fees-for-spring-full-semester
DTSTART;VALUE=DATE:20220127
DTEND;VALUE=DATE:20220128
END:VEVENT
END:VCALENDAR
