BEGIN:VCALENDAR
VERSION:2.0
PRODID:SchoolNow
CALSCALE:GREGORIAN
BEGIN:VEVENT
UID:611e6044-b32c-11eb-860b-023354188eb3
DTSTAMP:20210621T212901Z
SUMMARY:Last Day to Receive 25% Refund of Tuition and Fees for Spring Full 
 Semester
URL;VALUE=URI:https://www.nunez.edu/calendar/2598625/last-day-to-receive-25
 -refund-of-tution-and-fees-for-spring-full-semester
DTSTART;VALUE=DATE:20220201
DTEND;VALUE=DATE:20220202
END:VEVENT
END:VCALENDAR
