BEGIN:VCALENDAR
VERSION:2.0
PRODID:SchoolNow
CALSCALE:GREGORIAN
BEGIN:VEVENT
UID:69f44b98-b32c-11eb-9b76-023354188eb3
DTSTAMP:20210512T141450Z
SUMMARY:Census Day
URL;VALUE=URI:https://www.nunez.edu/calendar/2598626/census-day
DTSTART;VALUE=DATE:20220202
DTEND;VALUE=DATE:20220203
END:VEVENT
END:VCALENDAR
