BEGIN:VCALENDAR
VERSION:2.0
PRODID:SchoolNow
CALSCALE:GREGORIAN
BEGIN:VEVENT
UID:cbc584b2-f52c-11eb-89c2-02c80c07ef2b
DTSTAMP:20210804T140351Z
SUMMARY:Final Payment Deadline for Winter Intersession
URL;VALUE=URI:https://www.nunez.edu/calendar/2654644/final-payment-deadline
 -for-winter-intersession
DTSTART;VALUE=DATE:20211215
DTEND;VALUE=DATE:20211216
END:VEVENT
END:VCALENDAR
