BEGIN:VCALENDAR
VERSION:2.0
PRODID:SchoolNow
CALSCALE:GREGORIAN
BEGIN:VEVENT
UID:f3331294-f52c-11eb-ad1a-02c80c07ef2b
DTSTAMP:20210804T140457Z
SUMMARY:Final Exams for Winter Intersession
URL;VALUE=URI:https://www.nunez.edu/calendar/2654645/final-exams-for-winter
 -intersession
DTSTART;VALUE=DATE:20220112
DTEND;VALUE=DATE:20220113
END:VEVENT
END:VCALENDAR
