BEGIN:VCALENDAR
VERSION:2.0
PRODID:SchoolNow
CALSCALE:GREGORIAN
BEGIN:VEVENT
UID:6109e80e-f53e-11eb-a40a-02c80c07ef2b
DTSTAMP:20210804T160942Z
SUMMARY:Bookstore Purchases Open for Students with Financial Aid
URL;VALUE=URI:https://www.nunez.edu/calendar/2654726/bookstore-purchases-op
 en-for-students-with-financial-aid
DTSTART;VALUE=DATE:20220110
DTEND;VALUE=DATE:20220111
END:VEVENT
END:VCALENDAR
