BEGIN:VCALENDAR
VERSION:2.0
PRODID:SchoolNow
CALSCALE:GREGORIAN
BEGIN:VEVENT
UID:77950f5e-f53e-11eb-ad36-02c80c07ef2b
DTSTAMP:20210804T161020Z
SUMMARY:Bookstore Purchases Closes for Students with Financial Aid
URL;VALUE=URI:https://www.nunez.edu/calendar/2654727/bookstore-purchases-cl
 oses-for-students-with-financial-aid
DTSTART;VALUE=DATE:20220202
DTEND;VALUE=DATE:20220203
END:VEVENT
END:VCALENDAR
