BEGIN:VCALENDAR
VERSION:2.0
PRODID:SchoolNow
CALSCALE:GREGORIAN
BEGIN:VEVENT
UID:e28abfa8-2d84-11ef-81dd-0a58a9feac02
DTSTAMP:20240618T151023Z
SUMMARY:Deadline to fulfill Incomplete Grade Contracts from the previous se
 mester
URL;VALUE=URI:https://www.nunez.edu/calendar/6138957/deadline-to-fulfill-in
 complete-grade-contracts-from-the-previous-semester
DTSTART;VALUE=DATE:20250318
DTEND;VALUE=DATE:20250319
END:VEVENT
END:VCALENDAR
