BEGIN:VCALENDAR
VERSION:2.0
PRODID:SchoolNow
CALSCALE:GREGORIAN
BEGIN:VEVENT
UID:cc7ab7f0-2d88-11ef-982c-0a58a9feac02
DTSTAMP:20240618T153824Z
SUMMARY:Show/No Show reporting deadline 12:00pm\; students dropped for non-
 payment/non-attendance at 4:00pm
URL;VALUE=URI:https://www.nunez.edu/calendar/6139382/show-no-show-reporting
 -deadline-12-00pm-students-dropped-for-non-payment-non-attendance-at-4-00p
 m
DTSTART:20250604T170000Z
DTEND:20250604T210000Z
END:VEVENT
END:VCALENDAR
