BEGIN:VCALENDAR
VERSION:2.0
PRODID:SchoolNow
CALSCALE:GREGORIAN
BEGIN:VEVENT
UID:14e7c252-2d8a-11ef-924c-0a58a9feac02
DTSTAMP:20240618T154735Z
SUMMARY:Mini-Session A 100% Tuition & Fees Adjustment Period
URL;VALUE=URI:https://www.nunez.edu/calendar/6139395/mini-session-a-100-tui
 tion-fees-adjustment-period
DTSTART;VALUE=DATE:20250603
DTEND;VALUE=DATE:20250604
END:VEVENT
END:VCALENDAR
