BEGIN:VCALENDAR
VERSION:2.0
PRODID:SchoolNow
CALSCALE:GREGORIAN
BEGIN:VEVENT
UID:c7a37026-5138-11f0-9c70-0a58a9feac02
DTSTAMP:20250624T202115Z
SUMMARY:Final Payment Deadline - in-person payment - Full Spring Semester
URL;VALUE=URI:https://www.nunez.edu/calendar/8349332/final-payment-deadline
 -in-person-payment-full-spring-semester
DTSTART:20270126T172900Z
DTEND:20270126T173000Z
END:VEVENT
END:VCALENDAR
