BEGIN:VCALENDAR
VERSION:2.0
PRODID:SchoolNow
CALSCALE:GREGORIAN
BEGIN:VEVENT
UID:a717920a-5139-11f0-9934-0a58a9feac02
DTSTAMP:20250624T202730Z
SUMMARY:Midterm Exams - Full Spring Semester
URL;VALUE=URI:https://www.nunez.edu/calendar/8349346/midterm-exams-full-spr
 ing-semester
DTSTART;VALUE=DATE:20260306
DTEND;VALUE=DATE:20260312
END:VEVENT
END:VCALENDAR
