BEGIN:VCALENDAR
VERSION:2.0
PRODID:SchoolNow
CALSCALE:GREGORIAN
BEGIN:VEVENT
UID:b4952e42-5139-11f0-9aa1-0a58a9feac02
DTSTAMP:20250624T202753Z
SUMMARY:Midterm Grades are due - Full Spring Semester
URL;VALUE=URI:https://www.nunez.edu/calendar/8349347/midterm-grades-are-due
 -full-spring-semester
DTSTART;VALUE=DATE:20260313
DTEND;VALUE=DATE:20260314
END:VEVENT
END:VCALENDAR
