BEGIN:VCALENDAR
VERSION:2.0
PRODID:SchoolNow
CALSCALE:GREGORIAN
BEGIN:VEVENT
UID:bd74290a-5139-11f0-9937-0a58a9feac02
DTSTAMP:20250624T202808Z
SUMMARY:Deadline to fulfill Incomplete Grade Contracts from the previous se
 mester
URL;VALUE=URI:https://www.nunez.edu/calendar/8349348/deadline-to-fulfill-in
 complete-grade-contracts-from-the-previous-semester
DTSTART;VALUE=DATE:20260313
DTEND;VALUE=DATE:20260314
END:VEVENT
END:VCALENDAR
