BEGIN:VCALENDAR
VERSION:2.0
PRODID:SchoolNow
CALSCALE:GREGORIAN
BEGIN:VEVENT
UID:c6da6748-5139-11f0-a97d-0ef924d70cdd
DTSTAMP:20250624T202823Z
SUMMARY:Priority Fall and Summer Registration for VA students
URL;VALUE=URI:https://www.nunez.edu/calendar/8349349/priority-fall-and-summ
 er-registration-for-va-students
DTSTART;VALUE=DATE:20260316
DTEND;VALUE=DATE:20260317
END:VEVENT
END:VCALENDAR
