BEGIN:VCALENDAR
VERSION:2.0
PRODID:SchoolNow
CALSCALE:GREGORIAN
BEGIN:VEVENT
UID:d1b0bf82-5139-11f0-8233-0a58a9feac02
DTSTAMP:20250624T202842Z
SUMMARY:Fall and Summer Registration Opens
URL;VALUE=URI:https://www.nunez.edu/calendar/8349350/fall-and-summer-regist
 ration-opens
DTSTART;VALUE=DATE:20260318
DTEND;VALUE=DATE:20260319
END:VEVENT
END:VCALENDAR
