BEGIN:VCALENDAR
VERSION:2.0
PRODID:SchoolNow
CALSCALE:GREGORIAN
BEGIN:VEVENT
UID:dce5cdac-5139-11f0-abaa-0e10af15bf15
DTSTAMP:20250624T202900Z
SUMMARY:Spring Holiday—No Classes
URL;VALUE=URI:https://www.nunez.edu/calendar/8349351/spring-holiday-no-clas
 ses
DTSTART;VALUE=DATE:20260403
DTEND;VALUE=DATE:20260408
END:VEVENT
END:VCALENDAR
