BEGIN:VCALENDAR
VERSION:2.0
PRODID:SchoolNow
CALSCALE:GREGORIAN
BEGIN:VEVENT
UID:eee18898-5139-11f0-9ceb-0a58a9feac02
DTSTAMP:20250624T202931Z
SUMMARY:Spring Holiday—Campus Closed
URL;VALUE=URI:https://www.nunez.edu/calendar/8349352/spring-holiday-campus-
 closed
DTSTART;VALUE=DATE:20260403
DTEND;VALUE=DATE:20260404
END:VEVENT
END:VCALENDAR
