BEGIN:VCALENDAR
VERSION:2.0
PRODID:SchoolNow
CALSCALE:GREGORIAN
BEGIN:VEVENT
UID:03a4cf56-513a-11f0-a1e8-0a58a9feac02
DTSTAMP:20250624T203005Z
SUMMARY:Last Day to Withdraw from a Full Spring Semester Course or the Coll
 ege with a "W"
URL;VALUE=URI:https://www.nunez.edu/calendar/8349353/last-day-to-withdraw-f
 rom-a-full-spring-semester-course-or-the-college-with-a-w
DTSTART;VALUE=DATE:20260410
DTEND;VALUE=DATE:20260411
END:VEVENT
END:VCALENDAR
