BEGIN:VCALENDAR
VERSION:2.0
PRODID:SchoolNow
CALSCALE:GREGORIAN
BEGIN:VEVENT
UID:0d560a74-513a-11f0-9c31-0a58a9feac02
DTSTAMP:20250624T203022Z
SUMMARY:Priority Deadline to Apply for Graduation
URL;VALUE=URI:https://www.nunez.edu/calendar/8349355/priority-deadline-to-a
 pply-for-graduation
DTSTART;VALUE=DATE:20260417
DTEND;VALUE=DATE:20260418
END:VEVENT
END:VCALENDAR
