BEGIN:VCALENDAR
VERSION:2.0
PRODID:SchoolNow
CALSCALE:GREGORIAN
BEGIN:VEVENT
UID:1a7a83c4-513a-11f0-b27a-0eb6f8fd2a6d
DTSTAMP:20250624T203044Z
SUMMARY:Last Day of Class - Full Spring Semester
URL;VALUE=URI:https://www.nunez.edu/calendar/8349356/last-day-of-class-full
 -spring-semester
DTSTART;VALUE=DATE:20260508
DTEND;VALUE=DATE:20260509
END:VEVENT
END:VCALENDAR
