BEGIN:VCALENDAR
VERSION:2.0
PRODID:SchoolNow
CALSCALE:GREGORIAN
BEGIN:VEVENT
UID:2ed8c9c0-513a-11f0-8bfe-0a58a9feac02
DTSTAMP:20250624T203118Z
SUMMARY:Final Exams - Full Spring Semester
URL;VALUE=URI:https://www.nunez.edu/calendar/8349357/final-exams-full-sprin
 g-semester
DTSTART;VALUE=DATE:20260509
DTEND;VALUE=DATE:20260513
END:VEVENT
END:VCALENDAR
