BEGIN:VCALENDAR
VERSION:2.0
PRODID:SchoolNow
CALSCALE:GREGORIAN
BEGIN:VEVENT
UID:3c367932-513a-11f0-9a2e-0ef924d70cdd
DTSTAMP:20250624T213445Z
SUMMARY:Final Grades and IBC reporting due - Full Spring Semester
URL;VALUE=URI:https://www.nunez.edu/calendar/8349358/final-grades-and-ibc-r
 eporting-due-full-spring-semester
DTSTART:20260514T165900Z
DTEND:20260514T170000Z
END:VEVENT
END:VCALENDAR
