BEGIN:VCALENDAR
VERSION:2.0
PRODID:SchoolNow
CALSCALE:GREGORIAN
BEGIN:VEVENT
UID:28017718-513b-11f0-a812-0affeef6c825
DTSTAMP:20250624T203816Z
SUMMARY:Last Day of Class - Mini-Session A
URL;VALUE=URI:https://www.nunez.edu/calendar/8349372/last-day-of-class-mini
 -session-a
DTSTART;VALUE=DATE:20260310
DTEND;VALUE=DATE:20260311
END:VEVENT
END:VCALENDAR
