BEGIN:VCALENDAR
VERSION:2.0
PRODID:SchoolNow
CALSCALE:GREGORIAN
BEGIN:VEVENT
UID:36d9df8c-513b-11f0-a1e2-0a58a9feac02
DTSTAMP:20250624T203841Z
SUMMARY:Final Exams - Mini-Session A
URL;VALUE=URI:https://www.nunez.edu/calendar/8349373/final-exams-mini-sessi
 on-a
DTSTART;VALUE=DATE:20260311
DTEND;VALUE=DATE:20260313
END:VEVENT
END:VCALENDAR
