BEGIN:VCALENDAR
VERSION:2.0
PRODID:SchoolNow
CALSCALE:GREGORIAN
BEGIN:VEVENT
UID:489a1f34-513b-11f0-a6b4-0affeef6c825
DTSTAMP:20250624T203911Z
SUMMARY:Final Grades and IBC reporting due - Mini-Session A
URL;VALUE=URI:https://www.nunez.edu/calendar/8349374/final-grades-and-ibc-r
 eporting-due-mini-session-a
DTSTART:20260316T165900Z
DTEND:20260316T170000Z
END:VEVENT
END:VCALENDAR
