BEGIN:VCALENDAR
VERSION:2.0
PRODID:SchoolNow
CALSCALE:GREGORIAN
BEGIN:VEVENT
UID:77ccd274-513b-11f0-8790-0eb6f8fd2a6d
DTSTAMP:20250624T204030Z
SUMMARY:Early registration payment deadline - online payment - Mini-Session
  B
URL;VALUE=URI:https://www.nunez.edu/calendar/8349377/early-registration-pay
 ment-deadline-online-payment-mini-session-b
DTSTART:20260305T055900Z
DTEND:20260305T060000Z
END:VEVENT
END:VCALENDAR
