BEGIN:VCALENDAR
VERSION:2.0
PRODID:SchoolNow
CALSCALE:GREGORIAN
BEGIN:VEVENT
UID:881aaa2a-513b-11f0-982b-0a58a9feac02
DTSTAMP:20250624T204057Z
SUMMARY:First Day of Class - Mini-Session B
URL;VALUE=URI:https://www.nunez.edu/calendar/8349378/first-day-of-class-min
 i-session-b
DTSTART;VALUE=DATE:20260318
DTEND;VALUE=DATE:20260319
END:VEVENT
END:VCALENDAR
