BEGIN:VCALENDAR
VERSION:2.0
PRODID:SchoolNow
CALSCALE:GREGORIAN
BEGIN:VEVENT
UID:97726602-513b-11f0-a029-0afff5318a25
DTSTAMP:20250624T204123Z
SUMMARY:Late Registration/Last Day to Add\, Drop or Adjust Schedule - Mini-
 Session B
URL;VALUE=URI:https://www.nunez.edu/calendar/8349379/late-registration-last
 -day-to-add-drop-or-adjust-schedule-mini-session-b
DTSTART;VALUE=DATE:20260319
DTEND;VALUE=DATE:20260320
END:VEVENT
END:VCALENDAR
