BEGIN:VCALENDAR
VERSION:2.0
PRODID:SchoolNow
CALSCALE:GREGORIAN
BEGIN:VEVENT
UID:53d2dad4-513c-11f0-8fdf-0a58a9feac02
DTSTAMP:20250624T204639Z
SUMMARY:Final Payment Deadline - in-person payment - Mini-Session B
URL;VALUE=URI:https://www.nunez.edu/calendar/8349380/final-payment-deadline
 -in-person-payment-mini-session-b
DTSTART:20260319T162900Z
DTEND:20260319T163000Z
END:VEVENT
END:VCALENDAR
