BEGIN:VCALENDAR
VERSION:2.0
PRODID:SchoolNow
CALSCALE:GREGORIAN
BEGIN:VEVENT
UID:65d494d4-513c-11f0-b391-0eb6f8fd2a6d
DTSTAMP:20250624T204709Z
SUMMARY:Final Payment Deadline - online payment - Mini-Session B
URL;VALUE=URI:https://www.nunez.edu/calendar/8349381/final-payment-deadline
 -online-payment-mini-session-b
DTSTART:20260320T045900Z
DTEND:20260320T050000Z
END:VEVENT
END:VCALENDAR
